Workbook
Name BASEDECALCULO: PREENCHER!$L$17:$M$17
Name BCALC: #REF!
Name CREACAU: PREENCHER!$H$12:$I$12
Name ENC: #REF!
Name ENCARGOS: PREENCHER!$L$14:$M$14
Name ente: PREENCHER!$H$5:$I$5
Name regime: PREENCHER!$G$14:$H$14

Sheet PREENCHER
B3: PREENCHA OS CAMPOS EM AMARELO
I5: Empresa
B6: Tomador/Empresa: | E6: Prefeitura Municipal de | F6: Mostardas
B7: Nº contrato: | E7: o
B8: Objeto: | E8: CENTRAL DE GÁS- E.N.S. APARECIDA -SOLIDÃO
B9: Encargos : | E9: sem desoneração
B11: Nome orçamentista: | E11: Rogério Toldo Machado
B12: CAU-RS | E12: 17954-0
B14: Regime de execução: | E14: empreitada por preço global | L14: sem desoneração | M14: desonerados
B16: Alíquota ISSQN: | E16: 3 | F16: %
B17: Base de cálculo ISSQN: | E17: valor da mão de obra | L17: valor total da obra | M17: valor da mão de obra
B18: % de Mão de Obra (em relação ao valor total da obra): | E18: 44.82 | F18: %
B24: Cálculo do BDI conforme Acórdão 2622/2013 TCU
B26: SELECIONE O TIPO DE OBRA: | D26: 1 - Construção de Edifícios
B28: Itens | G28: Adotado | H28: MÍN | I28: MÁX | M28: 1 - Construção de Edifícios | P28: MIN | Q28: MÁX
B29: AC | C29: ADM CENTRAL | G29: 4.5 | H29: =VLOOKUP(J29,$O$29:$Q$69,2,FALSE) -> 3 | I29: =VLOOKUP(J29,$O$29:$Q$69,3,FALSE) -> 5.5 | J29: =CONCATENATE(LEFT($D$26,1),"a") -> 1a | K29: 0 | L29: =IF($G$46>$I$46,I29,10000) -> 10000 | M29: 2 - Construção de Rodovias e Ferrovias | O29: 1a | P29: 3 | Q29: 5.5
B30: S+G | C30: SEGURO E GARANTIA | G30: 0.9 | H30: =VLOOKUP(J30,$O$29:$Q$69,2,FALSE) -> 0.8 | I30: =VLOOKUP(J30,$O$29:$Q$69,3,FALSE) -> 1 | J30: =CONCATENATE(LEFT($D$26,1),"b") -> 1b | K30: 0 | L30: =IF($G$46>$I$46,I30,10000) -> 10000 | M30: 3 - Construção de Redes de Abastecimento de Água, Coleta de Esgoto e Construções Correlatas | O30: 1b | P30: 0.8 | Q30: 1
B31: R | C31: RISCO | G31: 1 | H31: =VLOOKUP(J31,$O$29:$Q$69,2,FALSE) -> 0.97 | I31: =VLOOKUP(J31,$O$29:$Q$69,3,FALSE) -> 1.27 | J31: =CONCATENATE(LEFT($D$26,1),"c") -> 1c | K31: 0 | L31: =IF($G$46>$I$46,I31,10000) -> 10000 | M31: 4 - Construção e Manutenção de Estações e Redes de Distribuição de Energia Elétrica | O31: 1c | P31: 0.97 | Q31: 1.27
B32: DF | C32: DESP. FINANCEIRAS | G32: 0.8 | H32: =VLOOKUP(J32,$O$29:$Q$69,2,FALSE) -> 0.59 | I32: =VLOOKUP(J32,$O$29:$Q$69,3,FALSE) -> 1.39 | J32: =CONCATENATE(LEFT($D$26,1),"d") -> 1d | K32: 0 | L32: =IF($G$46>$I$46,I32,10000) -> 10000 | M32: 5 - Obras Portuárias, Marítimas e Fluviais | O32: 1d | P32: 0.59 | Q32: 1.39
B33: L | C33: LUCRO | G33: 6.61 | H33: =VLOOKUP(J33,$O$29:$Q$69,2,FALSE) -> 6.16 | I33: =VLOOKUP(J33,$O$29:$Q$69,3,FALSE) -> 8.96 | J33: =CONCATENATE(LEFT($D$26,1),"e") -> 1e | K33: 0 | L33: =IF($G$46>$I$46,I33,10000) -> 10000 | M33: 6 - Fornecimento de Materiais e Equipamentos | O33: 1e | P33: 6.16 | Q33: 8.96
B34: I | C34: IMPOSTOS (Onerado) | G34: =G35+G36+G37 -> 4.9946 | H34: conf. Legislação | O34: 2a | P34: 3.8 | Q34: 4.67
D35: PIS | G35: 0.65 | K35: 0 | L35: =IF($G$46>$I$46,3,10000) -> 10000
D36: COFINS | G36: 3 | K36: 0 | L36: =IF($G$46>$I$46,0.65,10000) -> 10000
D37: ISSQN (Alíquota x %Base de cálculo) | G37: =IF(E17="valor total da obra",$E$16,$E$16*$E$18/100) -> 1.3446
D38: CPRB (p/ desonerado) | G38: =IF(E9="desonerados",4.5,"0") -> 0
B39: I | C39: IMPOSTOS (Desonerado) | G39: =IF(E9="desonerados",SUM(G35:G38),G34) -> 4.9946 | O39: 2b | P39: 0.32 | Q39: 0.74
O40: 2c | P40: 0.5 | Q40: 0.97
B41: Fórmula do BDI | O41: 2d | P41: 1.02 | Q41: 1.21
C42: BDI = | D42: (1 + AC + S + G + R) * (1 + DF) * (1 + L) | G42: -1 | O42: 2e | P42: 6.64 | Q42: 8.69
D43: (1 - I) | O43: 3a | P43: 3.43 | Q43: 6.71
O44: 3b | P44: 0.28 | Q44: 0.75
B45: BDI Resultante | H45: MÍN | I45: MÁX | O45: 3c | P45: 1 | Q45: 1.74
B46: =IF(G46>I46,"BDI Sem Desoneração: ! FORA DOS LIMITES !",IF(G46<H46,"BDI Sem Desoneração: ! FORA DOS LIMITES !","BDI Sem Desoneração:")) -> BDI Sem Desoneração: | G46: =100*ROUND((((1+G29/100+G30/100+G31/100)*(1+G32/100)*(1+G33/100))/(1-G34/100))-1,4) -> 20.35 | H46: =VLOOKUP(J46,$O$29:$Q$69,2,FALSE) -> 20.34 | I46: =VLOOKUP(J46,$O$29:$Q$69,3,FALSE) -> 25 | J46: =CONCATENATE(LEFT($D$26,1),"F") -> 1F | O46: 3d | P46: 0.94 | Q46: 1.17
B47: BDI Desonerado: | G47: =100*ROUND((((1+G29/100+G30/100+G31/100)*(1+G32/100)*(1+G33/100))/(1-G39/100))-1,4) -> 20.35 | J47: =IF(G46>I46,1,IF(G46<H46,1,0)) -> 0 | O47: 3e | P47: 6.74 | Q47: 9.4
B49: IMPORTANTE: Se o percentual total do BDI exceder o máximo previsto pelo Acórdão 2622/20013, o detalhamento do BDI deve ser acompanhado de relatório técnico circunstanciado, justificando a adoção do percentual adotado para cada parcela do BDI, assinado pelo profissional responsável técnico do orçamento, usando como diretriz os percentuais máximos e mínimos previstos para cada item.
B50: * O BDI máximo pode ser ultrapassado nos casos em que a empresa vencedora da licitação se enquadre na desoneração (conforme Medida Provisória 601/2012). Neste caso, após definir o BDI "sem desoneração" respeitando os limites das tabelas acima, o cálculo do BDI "desonerado" é feito acrescentando 2% ao item "I - PIS, COFINS e ISSQN", sem alterar as demais parcelas da fórmula. | O50: 4b | P50: 0.25 | Q50: 0.56
B51: * IMPORTANTE: Esta planilha foi desenvolvida para abranger às situações mais comuns. Poderá haver situações em que este modelo não se aplica. Não é obrigatório o uso desta planilha. | O51: 4c | P51: 1 | Q51: 1.97
O52: 4d | P52: 1.01 | Q52: 1.11
O53: 4e | P53: 8 | Q53: 9.51
O54: 5a | P54: 4 | Q54: 7.85
...

Sheet DECLARAÇÃO BDI
B1: Cálculo do BDI
B3: ="A "&PREENCHER!G6&" "&PREENCHER!$F$6&" declara para os devidos e necessários fins que na elaboração do orçamento referente ao objeto ''"&PREENCHER!$E$8&"'', foi adotado percentual de BDI de "&E29& " % (conforme planilha da composição analítica abaixo) e encargos " &PREENCHER!$E$9& " em conformidade com o estabelecido no SINAPI." -> A Mostardas declara para os devidos e necessários fins que na elaboração do orçamento referente ao objeto ''CENTRAL DE GÁS- E.N.S. APARECIDA -SOLIDÃO'', foi adotado percentual de BDI de 20,35 % (conforme planilha da composição analítica abaixo) e encargos sem desoneração em conformidade com o estabelecido no SINAPI.
B4: ="Declaramos ainda que a alíquota de ISS no município é de "&PREENCHER!$E$16&"%, a incidir sobre o "&PREENCHER!$E$17& "." -> Declaramos ainda que a alíquota de ISS no município é de 3%, a incidir sobre o valor da mão de obra.
B5: =IF(PREENCHER!E17="valor total da obra","","Para a obra em questão é considerada a relação de "&PREENCHER!$E$18&"% é mão de obra e "&100-PREENCHER!$E$18&"% é material.") -> Para a obra em questão é considerada a relação de 44,82% é mão de obra e 55,18% é material.
B6: ="O regime de execução da obra será "&PREENCHER!E14&"." -> O regime de execução da obra será empreitada por preço global.
B8: Composição analítica do BDI (conforme Acórdão 2622/2013 TCU)
B10: TIPO DE OBRA: | D10: =PREENCHER!D26 -> 1 - Construção de Edifícios
B12: Itens | E12: Adotado | F12: MÍN | G12: MÁX | J12: 1 - Construção de Edifícios | M12: MIN | N12: MÁX
B13: AC | C13: ADM CENTRAL | E13: =PREENCHER!G29 -> 4.5 | F13: =PREENCHER!H29 -> 3 | G13: =PREENCHER!I29 -> 5.5 | J13: 2 - Construção de Rodovias e Ferrovias | L13: 1a | M13: 3 | N13: 5.5
B14: S+G | C14: SEGURO E GARANTIA | E14: =PREENCHER!G30 -> 0.9 | F14: =PREENCHER!H30 -> 0.8 | G14: =PREENCHER!I30 -> 1 | J14: 3 - Construção de Redes de Abastecimento de Água, Coleta de Esgoto e Construções Correlatas | L14: 1b | M14: 0.8 | N14: 1
B15: R | C15: RISCO | E15: =PREENCHER!G31 -> 1 | F15: =PREENCHER!H31 -> 0.97 | G15: =PREENCHER!I31 -> 1.27 | J15: 4 - Construção e Manutenção de Estações e Redes de Distribuição de Energia Elétrica | L15: 1c | M15: 0.97 | N15: 1.27
B16: DF | C16: DESP. FINANCEIRAS | E16: =PREENCHER!G32 -> 0.8 | F16: =PREENCHER!H32 -> 0.59 | G16: =PREENCHER!I32 -> 1.39 | J16: 5 - Obras Portuárias, Marítimas e Fluviais | L16: 1d | M16: 0.59 | N16: 1.39
B17: L | C17: LUCRO | E17: =PREENCHER!G33 -> 6.61 | F17: =PREENCHER!H33 -> 6.16 | G17: =PREENCHER!I33 -> 8.96 | J17: 6 - Fornecimento de Materiais e Equipamentos | L17: 1e | M17: 6.16 | N17: 8.96
B18: I | C18: IMPOSTOS (Onerado) | E18: =SUM(E19:E22) -> 4.9946 | F18: conf. Legislação | L18: 2a | M18: 3.8 | N18: 4.67
D19: PIS | E19: =PREENCHER!G35 -> 0.65
D20: COFINS | E20: =PREENCHER!G36 -> 3
D21: ISSQN (Aliquota x %Base de cálculo) | E21: =PREENCHER!G37 -> 1.3446
D22: CPRB | E22: =PREENCHER!G38 -> 0
L23: 2c | M23: 0.5 | N23: 0.97
B24: Fórmula do BDI | L24: 2d | M24: 1.02 | N24: 1.21
C25: BDI = | D25: (1 + AC + S + G + R) * (1 + DF) * (1 + L) | E25: -1 | L25: 2e | M25: 6.64 | N25: 8.69
D26: (1 - I) | L26: 3a | M26: 3.43 | N26: 6.71
L27: 3b | M27: 0.28 | N27: 0.75
B28: BDI Resultante | F28: =IF(PREENCHER!G46>PREENCHER!H46,IF(PREENCHER!G46<PREENCHER!I46,"De acordo com o Acórdão 2622/2013-TCU.","NÃO"),"XXX BDI FORA DOS LIMITES AC 2622/13 XXX") -> De acordo com o Acórdão 2622/2013-TCU. | L28: 3c | M28: 1 | N28: 1.74
B29: BDI Resultante | E29: =100*ROUND((((1+E13/100+E14/100+E15/100)*(1+E16/100)*(1+E17/100))/(1-E18/100))-1,4) -> 20.35 | L29: 3d | M29: 0.94 | N29: 1.17
L30: 4a | M30: 5.29 | N30: 7.93
L31: 4b | M31: 0.25 | N31: 0.56
L32: 4c | M32: 1 | N32: 1.97
B33: =PREENCHER!E11 -> Rogério Toldo Machado | L33: 4d | M33: 1.01 | N33: 1.11
B34: =PREENCHER!B12&PREENCHER!E12 -> CAU-RS17954-0 | L34: 4e | M34: 8 | N34: 9.51
L35: 5a | M35: 4 | N35: 7.85
L36: 5b | M36: 0.81 | N36: 1.99
L37: 5c | M37: 1.46 | N37: 3.16
L38: 5d | M38: 0.94 | N38: 1.33
L39: 6b | M39: 0.3 | N39: 0.82
L40: 6c | M40: 0.56 | N40: 0.89
L41: 6d | M41: 0.85 | N41: 1.11
L42: 6e | M42: 3.5 | N42: 6.22
L43: 1f | M43: 20.34 | N43: 25
L44: 2f | M44: 19.6 | N44: 24.23
...

Sheet ENCARGOS SOCIAIS
B1: DETALHAMENTO DOS ENCARGOS SOCIAIS
B2: Obra: CENTRAL DE GÁS- E.N.S. APARECIDA -SOLIDÃO
B3: Cliente: Prefeitura Municipal de Mostardas/RS
B4: Endereço: Município de Mostardas/RS
B5: Encargos Sociais sobre a mão de obra
B8: TIPO DE OBRA: | D8: =PREENCHER!D26 -> 1 - Construção de Edifícios
B9: CÓDIGO | C9: DESCRIÇÃO | E9: HORISTA
E10: SEM DESONERAÇÃO
E11: %
B12: GRUPO A
B13: A1 | C13: INSS | E13: 0.2
B14: A2 | C14: SESI | E14: 0.015
B15: A3 | C15: SENAI | E15: 0.01
B16: A4 | C16: INCRA | E16: 0.002
B17: A5 | C17: SEBRAE | E17: 0.006
B18: A6 | C18: SALÁRIO EDUCAÇÃO | E18: 0.025
B19: A7 | C19: SEGURO CONTRA ACIDENTE DE TRABALHO | E19: 0.03
B20: A8 | C20: FGTS | E20: 0.08
B21: A9 | C21: SECONCI | E21: 0
B22: A | C22: TOTAL | E22: =SUM(E13:E21) -> 0.368
B23: GRUPO B
B24: B1 | C24: Repouso Semanal Remunerado | E24: 0.1794
B25: B2 | C25: Feriados | E25: 0.0425
B26: B3 | C26: Auxílio - Enfermidade | E26: 0.0092
B27: B4 | C27: 13º salário | E27: 0.1081
B28: B5 | C28: Licença Paternidade | E28: 0.0007
B29: B6 | C29: Faltas Justificadas | E29: 0.0072
B30: B7 | C30: Dias de Chuvas | E30: 0.0153
B31: B8 | C31: Auxílio Acidente de Trabalho | E31: 0.0011
B32: B9 | C32: Férias Gozadas | E32: 0.0811
B33: B10 | C33: Salário Maternidade | E33: 0.0003
B34: B | C34: TOTAL | E34: =SUM(E24:E33) -> 0.4449
B35: GRUPO C
B36: C1 | C36: Aviso Prévio Indenizado | E36: 0.0472
B37: C2 | C37: Aviso Prévio Trabalhado | E37: 0.0011
B38: C3 | C38: Férias Indenizadas | E38: 0.0477
B39: C4 | C39: Depósito Rescisão Sem Justa Causa | E39: 0.0458
B40: C5 | C40: Indenização Adicional | E40: 0.004
B41: C | C41: TOTAL | E41: =SUM(E36:E40) -> 0.1458
B42: GRUPO D
...
